BEGIN:VCALENDAR
VERSION:2.0
PRODID:-//Contratero//ES
CALSCALE:GREGORIAN
METHOD:PUBLISH
BEGIN:VEVENT
UID:PRORROGA SLU-2022-INT-PASS-0001@contratero.es
DTSTAMP:20260421T192149Z
DTSTART:20250602T235959
DTEND:20250603T005959
SUMMARY:Cierre: Licencias necesarias para la infografía on line pa
DESCRIPTION:Licencias necesarias para la infografía on line para los análisis de inteligencia turística de Turismo y Planificación Costa del Sol\, S.L.U.\\n\\nOrganismo: Gerencia de Turismo y Planificación Costa del Sol S.L.U.\\n\\nVer en Contratero: https://contratero.es/contracts/PRORROGA SLU-2022-INT-PASS-0001
URL:https://contratero.es/contracts/PRORROGA SLU-2022-INT-PASS-0001
STATUS:CONFIRMED
BEGIN:VALARM
TRIGGER:-P1D
ACTION:DISPLAY
DESCRIPTION:Recordatorio: Licencias necesarias para la i
END:VALARM
END:VEVENT
END:VCALENDAR